BEGIN:VCALENDAR
VERSION:2.0
PRODID:-//eventon.com NONSGML v1.0//EN
BEGIN:VEVENT
UID:69e4d8e1b5b82
DTSTAMP:20260419T153009
DTSTART:20250915T080000Z
DTEND:20250915T110000Z
TZID:Europe/Madrid
LOCATION:
SUMMARY:PRESENTACIÓN DM1-Hub: El registro de Distrofia Miotónica tipo 1 de España
DESCRIPTION: Fecha: Lunes 15 de septiembre de 10h a 13hInscripción: https://forms.gle/W6F2n1LXqjwVTyBf8Programa\nhttps://www.incliva.es/events/presentacion-dm1-hub-el-registro-de-distrofia-miotonica-tipo-1-de-espana/
URL:https://www.incliva.es/events/presentacion-dm1-hub-el-registro-de-distrofia-miotonica-tipo-1-de-espana/
END:VEVENT
END:VCALENDAR