BEGIN:VCALENDAR
VERSION:2.0
PRODID:-//eventon.com NONSGML v1.0//EN
BEGIN:VEVENT
UID:69e4cb640a8d5
DTSTAMP:20260419T143236
DTSTART:20231115
DTEND:20231116
TZID:Europe/Madrid
LOCATION:
SUMMARY:CURSO DE ANATOMÍA QUIRÚRGICA APLICADA HEPATO-BILIO-PANCREÁTICA 11ª Edición
DESCRIPTION: Programa Inscripción: https://www.fundanet.incliva.es/CursosCongresos/ &#8211; Plazo de matrícula hasta el 10/10/2023&#8211; Cuota de inscripción: 480 € para miembros de la Asociación Española de Cirujanos (AEC). 510€ para el resto de interesados. LUGAR DE REALIZACIÓN: Sesiones Teóricas: Salón de Actos INCLIVA. Planta sótano. Av. Menéndez Pelayo\,  4 accesorio. 46010 Valencia.Sesiones Prácticas: Sala[..]\nhttps://www.incliva.es/events/curso-de-anatomia-quirurgica-aplicada-hepato-bilio-pancreatica-11a-edicion/
URL:https://www.incliva.es/events/curso-de-anatomia-quirurgica-aplicada-hepato-bilio-pancreatica-11a-edicion/
END:VEVENT
END:VCALENDAR